* [xen-unstable-coverity test] 161257: all pass - PUSHED
@ 2021-04-18 10:20 osstest service owner
0 siblings, 0 replies; only message in thread
From: osstest service owner @ 2021-04-18 10:20 UTC (permalink / raw)
To: xen-devel, osstest-admin
flight 161257 xen-unstable-coverity real [real]
http://logs.test-lab.xenproject.org/osstest/logs/161257/
Perfect :-)
All tests in this flight passed as required
version targeted for testing:
xen dd22a64de7e02b48312839a15179528c8f7db5c6
baseline version:
xen 264aa183ad85b2779b27d1312724a291259ccc9f
Last test of basis 161129 2021-04-14 09:19:54 Z 4 days
Testing same since 161257 2021-04-18 09:19:39 Z 0 days 1 attempts
------------------------------------------------------------
People who touched revisions under test:
Andrew Cooper <andrew.cooper3@citrix.com>
Frédéric Pierret <frederic.pierret@qubes-os.org>
Jan Beulich <jbeulich@suse.com>
Julien Grall <jgrall@amazon.com>
Luca Fancellu <luca.fancellu@arm.com>
Roger Pau Monné <roger.pau@citrix.com>
Stefano Stabellini <sstabellini@kernel.org>
Stefano Stabellini <stefano.stabellini@xilinx.com>
Wei Liu <wl@xen.org>
jobs:
coverity-amd64 pass
------------------------------------------------------------
sg-report-flight on osstest.test-lab.xenproject.org
logs: /home/logs/logs
images: /home/logs/images
Logs, config files, etc. are available at
http://logs.test-lab.xenproject.org/osstest/logs
Explanation of these reports, and of osstest in general, is at
http://xenbits.xen.org/gitweb/?p=osstest.git;a=blob;f=README.email;hb=master
http://xenbits.xen.org/gitweb/?p=osstest.git;a=blob;f=README;hb=master
Test harness code can be found at
http://xenbits.xen.org/gitweb?p=osstest.git;a=summary
Pushing revision :
To xenbits.xen.org:/home/xen/git/xen.git
264aa183ad..dd22a64de7 dd22a64de7e02b48312839a15179528c8f7db5c6 -> coverity-tested/smoke
^ permalink raw reply [flat|nested] only message in thread
only message in thread, other threads:[~2021-04-18 10:20 UTC | newest]
Thread overview: (only message) (download: mbox.gz / follow: Atom feed)
-- links below jump to the message on this page --
2021-04-18 10:20 [xen-unstable-coverity test] 161257: all pass - PUSHED osstest service owner
This is a public inbox, see mirroring instructions
for how to clone and mirror all data and code used for this inbox;
as well as URLs for NNTP newsgroup(s).