* [xen-unstable-coverity test] 161786: all pass - PUSHED
@ 2021-05-05 9:58 osstest service owner
0 siblings, 0 replies; only message in thread
From: osstest service owner @ 2021-05-05 9:58 UTC (permalink / raw)
To: xen-devel, osstest-admin
flight 161786 xen-unstable-coverity real [real]
http://logs.test-lab.xenproject.org/osstest/logs/161786/
Perfect :-)
All tests in this flight passed as required
version targeted for testing:
xen 8cccd6438e86112ab383e41b433b5a7e73be9621
baseline version:
xen 1f8ee4cb430e5a9da37096574c41632cf69a0bc7
Last test of basis 161601 2021-05-02 09:18:26 Z 3 days
Testing same since 161786 2021-05-05 09:18:31 Z 0 days 1 attempts
------------------------------------------------------------
People who touched revisions under test:
Andrew Cooper <andrew.cooper3@citrix.com>
Anthony PERARD <anthony.perard@citrix.com>
George Dunlap <george.dunlap@citrix.com>
Ian Jackson <ian.jackson@eu.citrix.com>
Jan Beulich <jbeulich@suse.com>
Olaf Hering <olaf@aepfle.de>
Rahul Singh <rahul.singh@arm.com>
Roger Pau Monne <roger.pau@citrix.com>
Roger Pau Monné <roger.pau@citrix.com>
Tim Deegan <tim@xen.org>
jobs:
coverity-amd64 pass
------------------------------------------------------------
sg-report-flight on osstest.test-lab.xenproject.org
logs: /home/logs/logs
images: /home/logs/images
Logs, config files, etc. are available at
http://logs.test-lab.xenproject.org/osstest/logs
Explanation of these reports, and of osstest in general, is at
http://xenbits.xen.org/gitweb/?p=osstest.git;a=blob;f=README.email;hb=master
http://xenbits.xen.org/gitweb/?p=osstest.git;a=blob;f=README;hb=master
Test harness code can be found at
http://xenbits.xen.org/gitweb?p=osstest.git;a=summary
Pushing revision :
To xenbits.xen.org:/home/xen/git/xen.git
1f8ee4cb43..8cccd6438e 8cccd6438e86112ab383e41b433b5a7e73be9621 -> coverity-tested/smoke
^ permalink raw reply [flat|nested] only message in thread
only message in thread, other threads:[~2021-05-05 9:58 UTC | newest]
Thread overview: (only message) (download: mbox.gz / follow: Atom feed)
-- links below jump to the message on this page --
2021-05-05 9:58 [xen-unstable-coverity test] 161786: all pass - PUSHED osstest service owner
This is a public inbox, see mirroring instructions
for how to clone and mirror all data and code used for this inbox;
as well as URLs for NNTP newsgroup(s).