* [ovmf test] 161949: all pass - PUSHED
@ 2021-05-14 21:26 osstest service owner
0 siblings, 0 replies; only message in thread
From: osstest service owner @ 2021-05-14 21:26 UTC (permalink / raw)
To: xen-devel, osstest-admin
flight 161949 ovmf real [real]
http://logs.test-lab.xenproject.org/osstest/logs/161949/
Perfect :-)
All tests in this flight passed as required
version targeted for testing:
ovmf d82c4693f8d5c6b05f40ccf351c84645201067c1
baseline version:
ovmf 22ac5cc9d9db34056f7c97e994fd9def683ebb2e
Last test of basis 161943 2021-05-14 03:41:19 Z 0 days
Testing same since 161949 2021-05-14 10:10:07 Z 0 days 1 attempts
------------------------------------------------------------
People who touched revisions under test:
Sergei Dmitrouk <sergei@posteo.net>
jobs:
build-amd64-xsm pass
build-i386-xsm pass
build-amd64 pass
build-i386 pass
build-amd64-libvirt pass
build-i386-libvirt pass
build-amd64-pvops pass
build-i386-pvops pass
test-amd64-amd64-xl-qemuu-ovmf-amd64 pass
test-amd64-i386-xl-qemuu-ovmf-amd64 pass
------------------------------------------------------------
sg-report-flight on osstest.test-lab.xenproject.org
logs: /home/logs/logs
images: /home/logs/images
Logs, config files, etc. are available at
http://logs.test-lab.xenproject.org/osstest/logs
Explanation of these reports, and of osstest in general, is at
http://xenbits.xen.org/gitweb/?p=osstest.git;a=blob;f=README.email;hb=master
http://xenbits.xen.org/gitweb/?p=osstest.git;a=blob;f=README;hb=master
Test harness code can be found at
http://xenbits.xen.org/gitweb?p=osstest.git;a=summary
Pushing revision :
To xenbits.xen.org:/home/xen/git/osstest/ovmf.git
22ac5cc9d9..d82c4693f8 d82c4693f8d5c6b05f40ccf351c84645201067c1 -> xen-tested-master
^ permalink raw reply [flat|nested] only message in thread
only message in thread, other threads:[~2021-05-14 21:26 UTC | newest]
Thread overview: (only message) (download: mbox.gz / follow: Atom feed)
-- links below jump to the message on this page --
2021-05-14 21:26 [ovmf test] 161949: all pass - PUSHED osstest service owner
This is a public inbox, see mirroring instructions
for how to clone and mirror all data and code used for this inbox;
as well as URLs for NNTP newsgroup(s).