* [ovmf test] 162926: trouble: blocked/broken
@ 2021-06-21 11:32 osstest service owner
0 siblings, 0 replies; only message in thread
From: osstest service owner @ 2021-06-21 11:32 UTC (permalink / raw)
To: xen-devel, osstest-admin
flight 162926 ovmf real [real]
http://logs.test-lab.xenproject.org/osstest/logs/162926/
Failures and problems with tests :-(
Tests which did not succeed and are blocking,
including tests which could not be run:
build-amd64 <job status> broken
build-amd64-pvops <job status> broken
build-amd64-xsm <job status> broken
build-i386 <job status> broken
build-i386-pvops <job status> broken
build-i386-xsm <job status> broken
build-i386 4 host-install(4) broken REGR. vs. 162359
build-i386-pvops 4 host-install(4) broken REGR. vs. 162359
build-i386-xsm 4 host-install(4) broken REGR. vs. 162359
build-amd64-xsm 4 host-install(4) broken REGR. vs. 162359
build-amd64-pvops 4 host-install(4) broken REGR. vs. 162359
build-amd64 4 host-install(4) broken REGR. vs. 162359
Tests which did not succeed, but are not blocking:
build-amd64-libvirt 1 build-check(1) blocked n/a
build-i386-libvirt 1 build-check(1) blocked n/a
test-amd64-amd64-xl-qemuu-ovmf-amd64 1 build-check(1) blocked n/a
test-amd64-i386-xl-qemuu-ovmf-amd64 1 build-check(1) blocked n/a
version targeted for testing:
ovmf a63914d3f603580e5aeceb5edbafe56688210141
baseline version:
ovmf c410ad4da4b7785170d3d42a3ba190c2caac6feb
Last test of basis 162359 2021-06-04 03:40:08 Z 17 days
Failing since 162368 2021-06-04 15:42:59 Z 16 days 37 attempts
Testing same since 162900 2021-06-19 07:19:12 Z 2 days 5 attempts
------------------------------------------------------------
People who touched revisions under test:
Ard Biesheuvel <ardb@kernel.org>
gaoliming <gaoliming@byosoft.com.cn>
Hao A Wu <hao.a.wu@intel.com>
Jian J Wang <jian.j.wang@intel.com>
Kaaira Gupta <kaaira7319@gmail.com>
Kun Qin <kuqin12@gmail.com>
Laszlo Ersek <lersek@redhat.com>
Leif Lindholm <leif@nuviainc.com>
Liming Gao <gaoliming@byosoft.com.cn>
Maurice Ma <maurice.ma@intel.com>
Ni, Ray <ray.ni@intel.com>
Patrick Rudolph <patrick.rudolph@9elements.com>
Ray Ni <ray.ni@intel.com>
Rebecca Cran <rebecca@nuviainc.com>
Scottie Kuo <scottie.kuo@intel.com>
Sean Brogan <sean.brogan@microsoft.com>
Sean Brogan <spbrogan@live.com>
Sumana Venur <sumana.venur@intel.com>
Zhiguang Liu <zhiguang.liu@intel.com>
jobs:
build-amd64-xsm broken
build-i386-xsm broken
build-amd64 broken
build-i386 broken
build-amd64-libvirt blocked
build-i386-libvirt blocked
build-amd64-pvops broken
build-i386-pvops broken
test-amd64-amd64-xl-qemuu-ovmf-amd64 blocked
test-amd64-i386-xl-qemuu-ovmf-amd64 blocked
------------------------------------------------------------
sg-report-flight on osstest.test-lab.xenproject.org
logs: /home/logs/logs
images: /home/logs/images
Logs, config files, etc. are available at
http://logs.test-lab.xenproject.org/osstest/logs
Explanation of these reports, and of osstest in general, is at
http://xenbits.xen.org/gitweb/?p=osstest.git;a=blob;f=README.email;hb=master
http://xenbits.xen.org/gitweb/?p=osstest.git;a=blob;f=README;hb=master
Test harness code can be found at
http://xenbits.xen.org/gitweb?p=osstest.git;a=summary
broken-job build-amd64 broken
broken-job build-amd64-pvops broken
broken-job build-amd64-xsm broken
broken-job build-i386 broken
broken-job build-i386-pvops broken
broken-job build-i386-xsm broken
broken-step build-i386 host-install(4)
broken-step build-i386-pvops host-install(4)
broken-step build-i386-xsm host-install(4)
broken-step build-amd64-xsm host-install(4)
broken-step build-amd64-pvops host-install(4)
broken-step build-amd64 host-install(4)
Not pushing.
(No revision log; it would be 2173 lines long.)
^ permalink raw reply [flat|nested] only message in thread
only message in thread, other threads:[~2021-06-21 11:33 UTC | newest]
Thread overview: (only message) (download: mbox.gz / follow: Atom feed)
-- links below jump to the message on this page --
2021-06-21 11:32 [ovmf test] 162926: trouble: blocked/broken osstest service owner
This is a public inbox, see mirroring instructions
for how to clone and mirror all data and code used for this inbox;
as well as URLs for NNTP newsgroup(s).