* [xen-unstable test] 162963: trouble: blocked/broken/pass/preparing/queued/running
@ 2021-06-22 11:24 osstest service owner
0 siblings, 0 replies; only message in thread
From: osstest service owner @ 2021-06-22 11:24 UTC (permalink / raw)
To: xen-devel, osstest-admin
flight 162963 xen-unstable running [real]
http://logs.test-lab.xenproject.org/osstest/logs/162963/
Failures and problems with tests :-(
Tests which did not succeed and are blocking,
including tests which could not be run:
build-amd64-xtf <job status> broken
build-arm64 <job status> broken
build-arm64-pvops <job status> broken
build-i386-prev <job status> broken
build-i386-xsm <job status> broken
build-arm64-pvops 4 host-install(4) broken REGR. vs. 162533
build-arm64 4 host-install(4) broken REGR. vs. 162533
build-i386-xsm 4 host-install(4) broken REGR. vs. 162533
build-i386-prev 4 host-install(4) broken REGR. vs. 162533
build-amd64-xtf 4 host-install(4) broken REGR. vs. 162533
test-amd64-i386-qemuu-rhel6hvm-amd <none executed> queued
test-amd64-i386-qemuu-rhel6hvm-intel <none executed> queued
test-amd64-i386-xl <none executed> queued
test-amd64-i386-xl-pvshim <none executed> queued
test-amd64-i386-xl-qemut-debianhvm-amd64 <none executed> queued
test-amd64-i386-xl-qemut-debianhvm-i386-xsm <none executed> queued
test-amd64-i386-xl-qemut-stubdom-debianhvm-amd64-xsm <none executed> queued
test-amd64-i386-xl-qemut-win7-amd64 <none executed> queued
test-amd64-i386-xl-qemut-ws16-amd64 <none executed> queued
test-amd64-i386-xl-qemuu-debianhvm-amd64 <none executed> queued
test-amd64-i386-xl-qemuu-dmrestrict-amd64-dmrestrict <none executed> queued
test-amd64-i386-xl-qemuu-ovmf-amd64 <none executed> queued
test-amd64-i386-xl-qemuu-win7-amd64 <none executed> queued
test-amd64-i386-xl-qemuu-ws16-amd64 <none executed> queued
test-amd64-i386-xl-raw <none executed> queued
test-amd64-i386-xl-shadow <none executed> queued
test-amd64-i386-xl-xsm <none executed> queued
test-arm64-arm64-libvirt-xsm <none executed> queued
test-arm64-arm64-xl-xsm <none executed> queued
test-armhf-armhf-examine <none executed> queued
test-armhf-armhf-libvirt <none executed> queued
test-armhf-armhf-libvirt-raw <none executed> queued
test-armhf-armhf-xl <none executed> queued
test-amd64-amd64-xl-rtds <none executed> queued
test-amd64-amd64-xl-qemuu-ws16-amd64 <none executed> queued
test-amd64-amd64-xl-qemuu-win7-amd64 <none executed> queued
test-amd64-amd64-xl-qemuu-ovmf-amd64 <none executed> queued
test-amd64-amd64-xl-qemuu-dmrestrict-amd64-dmrestrict <none executed> queued
test-amd64-amd64-xl-qemuu-debianhvm-i386-xsm <none executed> queued
test-amd64-amd64-xl-qemuu-debianhvm-amd64-shadow <none executed> queued
test-amd64-amd64-xl-qemuu-debianhvm-amd64 <none executed> queued
test-amd64-amd64-xl-qemut-ws16-amd64 <none executed> queued
test-amd64-amd64-xl-qemut-win7-amd64 <none executed> queued
test-amd64-amd64-xl-qemut-stubdom-debianhvm-amd64-xsm <none executed> queued
test-amd64-amd64-xl-qemut-debianhvm-i386-xsm <none executed> queued
build-amd64-libvirt <none executed> queued
test-amd64-amd64-xl-qemut-debianhvm-amd64 <none executed> queued
test-amd64-amd64-xl-qcow2 <none executed> queued
test-amd64-amd64-xl-pvshim <none executed> queued
test-amd64-amd64-xl-pvhv2-intel <none executed> queued
test-amd64-amd64-xl-pvhv2-amd <none executed> queued
test-amd64-amd64-xl-multivcpu <none executed> queued
test-amd64-amd64-xl-credit2 <none executed> queued
build-i386-libvirt <none executed> queued
test-amd64-amd64-xl-credit1 <none executed> queued
test-amd64-amd64-xl <none executed> queued
test-amd64-amd64-amd64-pvgrub <none executed> queued
test-amd64-amd64-dom0pvh-xl-amd <none executed> queued
test-amd64-amd64-qemuu-nested-intel <none executed> queued
test-amd64-amd64-dom0pvh-xl-intel <none executed> queued
test-amd64-amd64-examine <none executed> queued
test-amd64-amd64-qemuu-nested-amd <none executed> queued
test-amd64-amd64-i386-pvgrub <none executed> queued
test-amd64-amd64-libvirt <none executed> queued
test-amd64-amd64-qemuu-freebsd12-amd64 <none executed> queued
test-amd64-amd64-libvirt-pair <none executed> queued
test-amd64-amd64-libvirt-qemuu-debianhvm-amd64-xsm <none executed> queued
test-amd64-amd64-qemuu-freebsd11-amd64 <none executed> queued
test-amd64-amd64-libvirt-vhd <none executed> queued
test-amd64-amd64-libvirt-xsm <none executed> queued
test-amd64-amd64-pygrub <none executed> queued
test-amd64-amd64-livepatch <none executed> queued
test-amd64-amd64-migrupgrade <none executed> queued
test-amd64-amd64-pair <none executed> queued
test-amd64-i386-xl-qemuu-debianhvm-amd64-shadow <none executed> queued
test-amd64-i386-xl-qemuu-debianhvm-i386-xsm <none executed> queued
test-amd64-amd64-xl-shadow <none executed> queued
test-amd64-amd64-xl-xsm <none executed> queued
test-amd64-coresched-amd64-xl <none executed> queued
test-amd64-coresched-i386-xl <none executed> queued
test-amd64-i386-examine <none executed> queued
test-amd64-i386-freebsd10-amd64 <none executed> queued
test-amd64-i386-freebsd10-i386 <none executed> queued
test-amd64-i386-libvirt <none executed> queued
test-amd64-i386-libvirt-pair <none executed> queued
test-amd64-i386-libvirt-qemuu-debianhvm-amd64-xsm <none executed> queued
test-amd64-i386-libvirt-xsm <none executed> queued
test-amd64-i386-livepatch <none executed> queued
test-amd64-i386-migrupgrade <none executed> queued
test-amd64-i386-pair <none executed> queued
test-amd64-i386-qemut-rhel6hvm-amd <none executed> queued
test-amd64-i386-qemut-rhel6hvm-intel <none executed> queued
test-armhf-armhf-xl-arndale <none executed> queued
test-armhf-armhf-xl-credit1 <none executed> queued
test-armhf-armhf-xl-credit2 <none executed> queued
test-armhf-armhf-xl-cubietruck <none executed> queued
test-armhf-armhf-xl-multivcpu <none executed> queued
test-armhf-armhf-xl-rtds <none executed> queued
test-armhf-armhf-xl-vhd <none executed> queued
test-xtf-amd64-amd64-1 <none executed> queued
test-xtf-amd64-amd64-2 <none executed> queued
test-xtf-amd64-amd64-3 <none executed> queued
test-xtf-amd64-amd64-4 <none executed> queued
test-xtf-amd64-amd64-5 <none executed> queued
build-amd64-prev 2 hosts-allocate running
build-armhf-libvirt 2 hosts-allocate running
build-amd64 2 hosts-allocate running
build-amd64-xsm 2 hosts-allocate running
build-amd64-pvops 2 hosts-allocate running
build-i386-pvops 4 host-install(4) running
build-arm64-xsm 4 host-install(4) running
build-i386 4 host-install(4) running
build-arm64-xsm 3 syslog-server running
build-i386 3 syslog-server running
build-i386-pvops 3 syslog-server running
build-armhf-pvops 4 host-install(4) running
build-armhf-pvops 3 syslog-server running
Tests which did not succeed, but are not blocking:
test-arm64-arm64-examine 1 build-check(1) blocked n/a
test-arm64-arm64-xl 1 build-check(1) blocked n/a
test-arm64-arm64-xl-credit1 1 build-check(1) blocked n/a
test-arm64-arm64-xl-credit2 1 build-check(1) blocked n/a
test-arm64-arm64-xl-seattle 1 build-check(1) blocked n/a
test-arm64-arm64-xl-thunderx 1 build-check(1) blocked n/a
build-arm64-libvirt 1 build-check(1) blocked n/a
version targeted for testing:
xen 8af4b47f061edf6450f2b0a0a8134fdf1c13b3e5
baseline version:
xen 5268b2dcf7e5342c8a51ceb4bed3e7740c69f5c1
Last test of basis 162533 2021-06-08 01:53:53 Z 14 days
Failing since 162556 2021-06-08 22:39:08 Z 13 days 20 attempts
Testing same since 162885 2021-06-17 23:08:00 Z 4 days 6 attempts
------------------------------------------------------------
People who touched revisions under test:
Andrew Cooper <andrew.cooper3@citrix.com>
Anthony PERARD <anthony.perard@citrix.com>
Bobby Eshleman <bobbyeshleman@gmail.com>
Christian Lindig <christian.lindig@citrix.com>
Connor Davis <connojdavis@gmail.com>
Dario Faggioli <dfaggioli@suse.com>
Edgar E. Iglesias <edgar.iglesias@xilinx.com>
George Dunlap <george.dunlap@citrix.com>
Ian Jackson <iwj@xenproject.org>
Jan Beulich <jbeulich@suse.com>
Juergen Gross <jgross@suse.com>
Julien Grall <jgrall@amazon.com>
Roger Pau Monné <roger.pau@citrix.com>
Stefano Stabellini <sstabellini@kernel.org>
Stefano Stabellini <stefano.stabellini@xilinx.com>
Tim Deegan <tim@xen.org>
Wei Liu <wl@xen.org>
jobs:
build-amd64-xsm preparing
build-arm64-xsm running
build-i386-xsm broken
build-amd64-xtf broken
build-amd64 preparing
build-arm64 broken
build-armhf pass
build-i386 running
build-amd64-libvirt queued
build-arm64-libvirt blocked
build-armhf-libvirt preparing
build-i386-libvirt queued
build-amd64-prev preparing
build-i386-prev broken
build-amd64-pvops preparing
build-arm64-pvops broken
build-armhf-pvops running
build-i386-pvops running
test-xtf-amd64-amd64-1 queued
test-xtf-amd64-amd64-2 queued
test-xtf-amd64-amd64-3 queued
test-xtf-amd64-amd64-4 queued
test-xtf-amd64-amd64-5 queued
test-amd64-amd64-xl queued
test-amd64-coresched-amd64-xl queued
test-arm64-arm64-xl blocked
test-armhf-armhf-xl queued
test-amd64-i386-xl queued
test-amd64-coresched-i386-xl queued
test-amd64-amd64-libvirt-qemuu-debianhvm-amd64-xsm queued
test-amd64-i386-libvirt-qemuu-debianhvm-amd64-xsm queued
test-amd64-amd64-xl-qemut-stubdom-debianhvm-amd64-xsm queued
test-amd64-i386-xl-qemut-stubdom-debianhvm-amd64-xsm queued
test-amd64-amd64-xl-qemut-debianhvm-i386-xsm queued
test-amd64-i386-xl-qemut-debianhvm-i386-xsm queued
test-amd64-amd64-xl-qemuu-debianhvm-i386-xsm queued
test-amd64-i386-xl-qemuu-debianhvm-i386-xsm queued
test-amd64-amd64-libvirt-xsm queued
test-arm64-arm64-libvirt-xsm queued
test-amd64-i386-libvirt-xsm queued
test-amd64-amd64-xl-xsm queued
test-arm64-arm64-xl-xsm queued
test-amd64-i386-xl-xsm queued
test-amd64-amd64-qemuu-nested-amd queued
test-amd64-amd64-xl-pvhv2-amd queued
test-amd64-i386-qemut-rhel6hvm-amd queued
test-amd64-i386-qemuu-rhel6hvm-amd queued
test-amd64-amd64-dom0pvh-xl-amd queued
test-amd64-amd64-xl-qemut-debianhvm-amd64 queued
test-amd64-i386-xl-qemut-debianhvm-amd64 queued
test-amd64-amd64-xl-qemuu-debianhvm-amd64 queued
test-amd64-i386-xl-qemuu-debianhvm-amd64 queued
test-amd64-i386-freebsd10-amd64 queued
test-amd64-amd64-qemuu-freebsd11-amd64 queued
test-amd64-amd64-qemuu-freebsd12-amd64 queued
test-amd64-amd64-xl-qemuu-ovmf-amd64 queued
test-amd64-i386-xl-qemuu-ovmf-amd64 queued
test-amd64-amd64-xl-qemut-win7-amd64 queued
test-amd64-i386-xl-qemut-win7-amd64 queued
test-amd64-amd64-xl-qemuu-win7-amd64 queued
test-amd64-i386-xl-qemuu-win7-amd64 queued
test-amd64-amd64-xl-qemut-ws16-amd64 queued
test-amd64-i386-xl-qemut-ws16-amd64 queued
test-amd64-amd64-xl-qemuu-ws16-amd64 queued
test-amd64-i386-xl-qemuu-ws16-amd64 queued
test-armhf-armhf-xl-arndale queued
test-amd64-amd64-xl-credit1 queued
test-arm64-arm64-xl-credit1 blocked
test-armhf-armhf-xl-credit1 queued
test-amd64-amd64-xl-credit2 queued
test-arm64-arm64-xl-credit2 blocked
test-armhf-armhf-xl-credit2 queued
test-armhf-armhf-xl-cubietruck queued
test-amd64-amd64-xl-qemuu-dmrestrict-amd64-dmrestrict queued
test-amd64-i386-xl-qemuu-dmrestrict-amd64-dmrestrict queued
test-amd64-amd64-examine queued
test-arm64-arm64-examine blocked
test-armhf-armhf-examine queued
test-amd64-i386-examine queued
test-amd64-i386-freebsd10-i386 queued
test-amd64-amd64-qemuu-nested-intel queued
test-amd64-amd64-xl-pvhv2-intel queued
test-amd64-i386-qemut-rhel6hvm-intel queued
test-amd64-i386-qemuu-rhel6hvm-intel queued
test-amd64-amd64-dom0pvh-xl-intel queued
test-amd64-amd64-libvirt queued
test-armhf-armhf-libvirt queued
test-amd64-i386-libvirt queued
test-amd64-amd64-livepatch queued
test-amd64-i386-livepatch queued
test-amd64-amd64-migrupgrade queued
test-amd64-i386-migrupgrade queued
test-amd64-amd64-xl-multivcpu queued
test-armhf-armhf-xl-multivcpu queued
test-amd64-amd64-pair queued
test-amd64-i386-pair queued
test-amd64-amd64-libvirt-pair queued
test-amd64-i386-libvirt-pair queued
test-amd64-amd64-amd64-pvgrub queued
test-amd64-amd64-i386-pvgrub queued
test-amd64-amd64-xl-pvshim queued
test-amd64-i386-xl-pvshim queued
test-amd64-amd64-pygrub queued
test-amd64-amd64-xl-qcow2 queued
test-armhf-armhf-libvirt-raw queued
test-amd64-i386-xl-raw queued
test-amd64-amd64-xl-rtds queued
test-armhf-armhf-xl-rtds queued
test-arm64-arm64-xl-seattle blocked
test-amd64-amd64-xl-qemuu-debianhvm-amd64-shadow queued
test-amd64-i386-xl-qemuu-debianhvm-amd64-shadow queued
test-amd64-amd64-xl-shadow queued
test-amd64-i386-xl-shadow queued
test-arm64-arm64-xl-thunderx blocked
test-amd64-amd64-libvirt-vhd queued
test-armhf-armhf-xl-vhd queued
------------------------------------------------------------
sg-report-flight on osstest.test-lab.xenproject.org
logs: /home/logs/logs
images: /home/logs/images
Logs, config files, etc. are available at
http://logs.test-lab.xenproject.org/osstest/logs
Explanation of these reports, and of osstest in general, is at
http://xenbits.xen.org/gitweb/?p=osstest.git;a=blob;f=README.email;hb=master
http://xenbits.xen.org/gitweb/?p=osstest.git;a=blob;f=README;hb=master
Test harness code can be found at
http://xenbits.xen.org/gitweb?p=osstest.git;a=summary
broken-job test-amd64-i386-qemuu-rhel6hvm-amd queued
broken-job test-amd64-i386-qemuu-rhel6hvm-intel queued
broken-job test-amd64-i386-xl queued
broken-job test-amd64-i386-xl-pvshim queued
broken-job test-amd64-i386-xl-qemut-debianhvm-amd64 queued
broken-job test-amd64-i386-xl-qemut-debianhvm-i386-xsm queued
broken-job test-amd64-i386-xl-qemut-stubdom-debianhvm-amd64-xsm queued
broken-job test-amd64-i386-xl-qemut-win7-amd64 queued
broken-job test-amd64-i386-xl-qemut-ws16-amd64 queued
broken-job test-amd64-i386-xl-qemuu-debianhvm-amd64 queued
broken-job test-amd64-i386-xl-qemuu-dmrestrict-amd64-dmrestrict queued
broken-job test-amd64-i386-xl-qemuu-ovmf-amd64 queued
broken-job test-amd64-i386-xl-qemuu-win7-amd64 queued
broken-job test-amd64-i386-xl-qemuu-ws16-amd64 queued
broken-job test-amd64-i386-xl-raw queued
broken-job test-amd64-i386-xl-shadow queued
broken-job test-amd64-i386-xl-xsm queued
broken-job test-arm64-arm64-libvirt-xsm queued
broken-job test-arm64-arm64-xl-xsm queued
broken-job test-armhf-armhf-examine queued
broken-job test-armhf-armhf-libvirt queued
broken-job test-armhf-armhf-libvirt-raw queued
broken-job test-armhf-armhf-xl queued
broken-job test-amd64-amd64-xl-rtds queued
broken-job test-amd64-amd64-xl-qemuu-ws16-amd64 queued
broken-job test-amd64-amd64-xl-qemuu-win7-amd64 queued
broken-job test-amd64-amd64-xl-qemuu-ovmf-amd64 queued
broken-job test-amd64-amd64-xl-qemuu-dmrestrict-amd64-dmrestrict queued
broken-job test-amd64-amd64-xl-qemuu-debianhvm-i386-xsm queued
broken-job test-amd64-amd64-xl-qemuu-debianhvm-amd64-shadow queued
broken-job test-amd64-amd64-xl-qemuu-debianhvm-amd64 queued
broken-job test-amd64-amd64-xl-qemut-ws16-amd64 queued
broken-job test-amd64-amd64-xl-qemut-win7-amd64 queued
broken-job test-amd64-amd64-xl-qemut-stubdom-debianhvm-amd64-xsm queued
broken-job test-amd64-amd64-xl-qemut-debianhvm-i386-xsm queued
broken-job build-amd64-libvirt queued
broken-job test-amd64-amd64-xl-qemut-debianhvm-amd64 queued
broken-job test-amd64-amd64-xl-qcow2 queued
broken-job build-amd64-xtf broken
broken-job test-amd64-amd64-xl-pvshim queued
broken-job build-arm64 broken
broken-job test-amd64-amd64-xl-pvhv2-intel queued
broken-job build-arm64-pvops broken
broken-job test-amd64-amd64-xl-pvhv2-amd queued
broken-job test-amd64-amd64-xl-multivcpu queued
broken-job test-amd64-amd64-xl-credit2 queued
broken-job build-i386-libvirt queued
broken-job build-i386-prev broken
broken-job test-amd64-amd64-xl-credit1 queued
broken-job test-amd64-amd64-xl queued
broken-job build-i386-xsm broken
broken-job test-amd64-amd64-amd64-pvgrub queued
broken-job test-amd64-amd64-dom0pvh-xl-amd queued
broken-job test-amd64-amd64-qemuu-nested-intel queued
broken-job test-amd64-amd64-dom0pvh-xl-intel queued
broken-job test-amd64-amd64-examine queued
broken-job test-amd64-amd64-qemuu-nested-amd queued
broken-job test-amd64-amd64-i386-pvgrub queued
broken-job test-amd64-amd64-libvirt queued
broken-job test-amd64-amd64-qemuu-freebsd12-amd64 queued
broken-job test-amd64-amd64-libvirt-pair queued
broken-job test-amd64-amd64-libvirt-qemuu-debianhvm-amd64-xsm queued
broken-job test-amd64-amd64-qemuu-freebsd11-amd64 queued
broken-job test-amd64-amd64-libvirt-vhd queued
broken-job test-amd64-amd64-libvirt-xsm queued
broken-job test-amd64-amd64-pygrub queued
broken-job test-amd64-amd64-livepatch queued
broken-job test-amd64-amd64-migrupgrade queued
broken-job test-amd64-amd64-pair queued
broken-job test-amd64-i386-xl-qemuu-debianhvm-amd64-shadow queued
broken-job test-amd64-i386-xl-qemuu-debianhvm-i386-xsm queued
broken-job test-amd64-amd64-xl-shadow queued
broken-job test-amd64-amd64-xl-xsm queued
broken-job test-amd64-coresched-amd64-xl queued
broken-job test-amd64-coresched-i386-xl queued
broken-job test-amd64-i386-examine queued
broken-job test-amd64-i386-freebsd10-amd64 queued
broken-job test-amd64-i386-freebsd10-i386 queued
broken-job test-amd64-i386-libvirt queued
broken-job test-amd64-i386-libvirt-pair queued
broken-job test-amd64-i386-libvirt-qemuu-debianhvm-amd64-xsm queued
broken-job test-amd64-i386-libvirt-xsm queued
broken-job test-amd64-i386-livepatch queued
broken-job test-amd64-i386-migrupgrade queued
broken-job test-amd64-i386-pair queued
broken-job test-amd64-i386-qemut-rhel6hvm-amd queued
broken-job test-amd64-i386-qemut-rhel6hvm-intel queued
broken-job test-armhf-armhf-xl-arndale queued
broken-job test-armhf-armhf-xl-credit1 queued
broken-job test-armhf-armhf-xl-credit2 queued
broken-job test-armhf-armhf-xl-cubietruck queued
broken-job test-armhf-armhf-xl-multivcpu queued
broken-job test-armhf-armhf-xl-rtds queued
broken-job test-armhf-armhf-xl-vhd queued
broken-job test-xtf-amd64-amd64-1 queued
broken-job test-xtf-amd64-amd64-2 queued
broken-job test-xtf-amd64-amd64-3 queued
broken-job test-xtf-amd64-amd64-4 queued
broken-job test-xtf-amd64-amd64-5 queued
broken-step build-arm64-pvops host-install(4)
broken-step build-arm64 host-install(4)
broken-step build-i386-xsm host-install(4)
broken-step build-i386-prev host-install(4)
broken-step build-amd64-xtf host-install(4)
Not pushing.
(No revision log; it would be 1163 lines long.)
^ permalink raw reply [flat|nested] only message in thread
only message in thread, other threads:[~2021-06-22 11:24 UTC | newest]
Thread overview: (only message) (download: mbox.gz / follow: Atom feed)
-- links below jump to the message on this page --
2021-06-22 11:24 [xen-unstable test] 162963: trouble: blocked/broken/pass/preparing/queued/running osstest service owner
This is a public inbox, see mirroring instructions
for how to clone and mirror all data and code used for this inbox;
as well as URLs for NNTP newsgroup(s).