* [xen-unstable-coverity test] 163147: all pass - PUSHED
@ 2021-06-27 9:48 osstest service owner
0 siblings, 0 replies; only message in thread
From: osstest service owner @ 2021-06-27 9:48 UTC (permalink / raw)
To: xen-devel, osstest-admin
flight 163147 xen-unstable-coverity real [real]
http://logs.test-lab.xenproject.org/osstest/logs/163147/
Perfect :-)
All tests in this flight passed as required
version targeted for testing:
xen bb11edcec1a953ce590da797b0d005cd60f21e83
baseline version:
xen c7691f5e340f3b579d40c77548f63133cdf5aac7
Last test of basis 162992 2021-06-23 09:20:40 Z 4 days
Testing same since 163147 2021-06-27 09:18:28 Z 0 days 1 attempts
------------------------------------------------------------
People who touched revisions under test:
Andrew Cooper <andrew.cooper3@citrix.com>
Daniel P. Smith <dpsmith@apertussolutions.com>
Ian Jackson <iwj@xenproject.org>
Jan Beulich <jbeulich@suse.com>
Juergen Gross <jgross@suse.com>
Julien Grall <jgrall@amazon.com>
Julien Grall <julien@xen.org>
Oleksandr Tyshchenko <oleksandr_tyshchenko@epam.com>
Rahul Singh <rahul.singh@arm.com>
Stefano Stabellini <sstabellini@kernel.org>
jobs:
coverity-amd64 pass
------------------------------------------------------------
sg-report-flight on osstest.test-lab.xenproject.org
logs: /home/logs/logs
images: /home/logs/images
Logs, config files, etc. are available at
http://logs.test-lab.xenproject.org/osstest/logs
Explanation of these reports, and of osstest in general, is at
http://xenbits.xen.org/gitweb/?p=osstest.git;a=blob;f=README.email;hb=master
http://xenbits.xen.org/gitweb/?p=osstest.git;a=blob;f=README;hb=master
Test harness code can be found at
http://xenbits.xen.org/gitweb?p=osstest.git;a=summary
Pushing revision :
To xenbits.xen.org:/home/xen/git/xen.git
c7691f5e34..bb11edcec1 bb11edcec1a953ce590da797b0d005cd60f21e83 -> coverity-tested/smoke
^ permalink raw reply [flat|nested] only message in thread
only message in thread, other threads:[~2021-06-27 9:48 UTC | newest]
Thread overview: (only message) (download: mbox.gz / follow: Atom feed)
-- links below jump to the message on this page --
2021-06-27 9:48 [xen-unstable-coverity test] 163147: all pass - PUSHED osstest service owner
This is a public inbox, see mirroring instructions
for how to clone and mirror all data and code used for this inbox;
as well as URLs for NNTP newsgroup(s).