* [ovmf test] 173293: all pass - PUSHED
@ 2022-09-23 16:54 osstest service owner
0 siblings, 0 replies; only message in thread
From: osstest service owner @ 2022-09-23 16:54 UTC (permalink / raw)
To: xen-devel
flight 173293 ovmf real [real]
http://logs.test-lab.xenproject.org/osstest/logs/173293/
Perfect :-)
All tests in this flight passed as required
version targeted for testing:
ovmf 953438e4665c5993dfe5652c43ad43f963075b64
baseline version:
ovmf 5f403cdc6a367d8aad70f25e4286cb3785f2a1a2
Last test of basis 173289 2022-09-23 09:41:41 Z 0 days
Failing since 173290 2022-09-23 12:13:11 Z 0 days 2 attempts
Testing same since 173293 2022-09-23 14:42:58 Z 0 days 1 attempts
------------------------------------------------------------
People who touched revisions under test:
Ard Biesheuvel <ardb@kernel.org>
Christopher Zurcher <christopher.zurcher@microsoft.com>
Christopher Zurcher <zurcher@gmail.com>
Leif Lindholm <quic_llindhol@quicinc.com>
Minh Nguyen <minhn@amperecomputing.com>
Nhi Pham <nhi@os.amperecomputing.com>
Yi Li <yi1.li@intel.com>
jobs:
build-amd64-xsm pass
build-i386-xsm pass
build-amd64 pass
build-i386 pass
build-amd64-libvirt pass
build-i386-libvirt pass
build-amd64-pvops pass
build-i386-pvops pass
test-amd64-amd64-xl-qemuu-ovmf-amd64 pass
test-amd64-i386-xl-qemuu-ovmf-amd64 pass
------------------------------------------------------------
sg-report-flight on osstest.test-lab.xenproject.org
logs: /home/logs/logs
images: /home/logs/images
Logs, config files, etc. are available at
http://logs.test-lab.xenproject.org/osstest/logs
Explanation of these reports, and of osstest in general, is at
http://xenbits.xen.org/gitweb/?p=osstest.git;a=blob;f=README.email;hb=master
http://xenbits.xen.org/gitweb/?p=osstest.git;a=blob;f=README;hb=master
Test harness code can be found at
http://xenbits.xen.org/gitweb?p=osstest.git;a=summary
Pushing revision :
To xenbits.xen.org:/home/xen/git/osstest/ovmf.git
5f403cdc6a..953438e466 953438e4665c5993dfe5652c43ad43f963075b64 -> xen-tested-master
^ permalink raw reply [flat|nested] only message in thread
only message in thread, other threads:[~2022-09-23 16:54 UTC | newest]
Thread overview: (only message) (download: mbox.gz / follow: Atom feed)
-- links below jump to the message on this page --
2022-09-23 16:54 [ovmf test] 173293: all pass - PUSHED osstest service owner
This is a public inbox, see mirroring instructions
for how to clone and mirror all data and code used for this inbox;
as well as URLs for NNTP newsgroup(s).