* [ovmf test] 181225: all pass - PUSHED
@ 2023-06-06 23:53 osstest service owner
0 siblings, 0 replies; only message in thread
From: osstest service owner @ 2023-06-06 23:53 UTC (permalink / raw)
To: xen-devel
flight 181225 ovmf real [real]
http://logs.test-lab.xenproject.org/osstest/logs/181225/
Perfect :-)
All tests in this flight passed as required
version targeted for testing:
ovmf ded0b489af09cde5afa05d74acdb12cd4b4f8394
baseline version:
ovmf cdd20638bc97cef1356a5c687a412f869c637245
Last test of basis 181221 2023-06-06 17:10:53 Z 0 days
Testing same since 181225 2023-06-06 21:54:32 Z 0 days 1 attempts
------------------------------------------------------------
People who touched revisions under test:
Aryeh Chen <aryeh.chen@intel.com>
Yong Li <yong.li@intel.com>
jobs:
build-amd64-xsm pass
build-i386-xsm pass
build-amd64 pass
build-i386 pass
build-amd64-libvirt pass
build-i386-libvirt pass
build-amd64-pvops pass
build-i386-pvops pass
test-amd64-amd64-xl-qemuu-ovmf-amd64 pass
test-amd64-i386-xl-qemuu-ovmf-amd64 pass
------------------------------------------------------------
sg-report-flight on osstest.test-lab.xenproject.org
logs: /home/logs/logs
images: /home/logs/images
Logs, config files, etc. are available at
http://logs.test-lab.xenproject.org/osstest/logs
Explanation of these reports, and of osstest in general, is at
http://xenbits.xen.org/gitweb/?p=osstest.git;a=blob;f=README.email;hb=master
http://xenbits.xen.org/gitweb/?p=osstest.git;a=blob;f=README;hb=master
Test harness code can be found at
http://xenbits.xen.org/gitweb?p=osstest.git;a=summary
Pushing revision :
To xenbits.xen.org:/home/xen/git/osstest/ovmf.git
cdd20638bc..ded0b489af ded0b489af09cde5afa05d74acdb12cd4b4f8394 -> xen-tested-master
^ permalink raw reply [flat|nested] only message in thread
only message in thread, other threads:[~2023-06-06 23:54 UTC | newest]
Thread overview: (only message) (download: mbox.gz / follow: Atom feed)
-- links below jump to the message on this page --
2023-06-06 23:53 [ovmf test] 181225: all pass - PUSHED osstest service owner
This is a public inbox, see mirroring instructions
for how to clone and mirror all data and code used for this inbox;
as well as URLs for NNTP newsgroup(s).