* [ovmf test] 181404: all pass - PUSHED
@ 2023-06-13 10:14 osstest service owner
0 siblings, 0 replies; only message in thread
From: osstest service owner @ 2023-06-13 10:14 UTC (permalink / raw)
To: xen-devel
flight 181404 ovmf real [real]
http://logs.test-lab.xenproject.org/osstest/logs/181404/
Perfect :-)
All tests in this flight passed as required
version targeted for testing:
ovmf 51bb8eb76c4e8c57d5484c647ecf0b5c5fa8fa94
baseline version:
ovmf 530f5b0912c1c3837337baeec66eb7b0a90d9969
Last test of basis 181400 2023-06-13 03:12:26 Z 0 days
Testing same since 181404 2023-06-13 08:11:19 Z 0 days 1 attempts
------------------------------------------------------------
People who touched revisions under test:
MarsX Lin <marsx.lin@intel.com>
Ray Ni <ray.ni@intel.com>
jobs:
build-amd64-xsm pass
build-i386-xsm pass
build-amd64 pass
build-i386 pass
build-amd64-libvirt pass
build-i386-libvirt pass
build-amd64-pvops pass
build-i386-pvops pass
test-amd64-amd64-xl-qemuu-ovmf-amd64 pass
test-amd64-i386-xl-qemuu-ovmf-amd64 pass
------------------------------------------------------------
sg-report-flight on osstest.test-lab.xenproject.org
logs: /home/logs/logs
images: /home/logs/images
Logs, config files, etc. are available at
http://logs.test-lab.xenproject.org/osstest/logs
Explanation of these reports, and of osstest in general, is at
http://xenbits.xen.org/gitweb/?p=osstest.git;a=blob;f=README.email;hb=master
http://xenbits.xen.org/gitweb/?p=osstest.git;a=blob;f=README;hb=master
Test harness code can be found at
http://xenbits.xen.org/gitweb?p=osstest.git;a=summary
Pushing revision :
To xenbits.xen.org:/home/xen/git/osstest/ovmf.git
530f5b0912..51bb8eb76c 51bb8eb76c4e8c57d5484c647ecf0b5c5fa8fa94 -> xen-tested-master
^ permalink raw reply [flat|nested] only message in thread
only message in thread, other threads:[~2023-06-13 10:14 UTC | newest]
Thread overview: (only message) (download: mbox.gz / follow: Atom feed)
-- links below jump to the message on this page --
2023-06-13 10:14 [ovmf test] 181404: all pass - PUSHED osstest service owner
This is a public inbox, see mirroring instructions
for how to clone and mirror all data and code used for this inbox;
as well as URLs for NNTP newsgroup(s).