* [ovmf baseline-only test] 67851: all pass
@ 2016-10-08 17:24 Platform Team regression test user
0 siblings, 0 replies; only message in thread
From: Platform Team regression test user @ 2016-10-08 17:24 UTC (permalink / raw)
To: xen-devel, osstest-admin
This run is configured for baseline tests only.
flight 67851 ovmf real [real]
http://osstest.xs.citrite.net/~osstest/testlogs/logs/67851/
Perfect :-)
All tests in this flight passed as required
version targeted for testing:
ovmf 202726b3ceb33576ac6feb778e48bd851bfe171e
baseline version:
ovmf 0cdde071136b442606ae264227d67b3d65272e70
Last test of basis 67850 2016-10-08 09:16:25 Z 0 days
Testing same since 67851 2016-10-08 15:47:59 Z 0 days 1 attempts
------------------------------------------------------------
People who touched revisions under test:
Jordan Justen <jordan.l.justen@intel.com>
Liming Gao <liming.gao@intel.com>
jobs:
build-amd64-xsm pass
build-i386-xsm pass
build-amd64 pass
build-i386 pass
build-amd64-libvirt pass
build-i386-libvirt pass
build-amd64-pvops pass
build-i386-pvops pass
test-amd64-amd64-xl-qemuu-ovmf-amd64 pass
test-amd64-i386-xl-qemuu-ovmf-amd64 pass
------------------------------------------------------------
sg-report-flight on osstest.xs.citrite.net
logs: /home/osstest/logs
images: /home/osstest/images
Logs, config files, etc. are available at
http://osstest.xs.citrite.net/~osstest/testlogs/logs
Test harness code can be found at
http://xenbits.xensource.com/gitweb?p=osstest.git;a=summary
Push not applicable.
------------------------------------------------------------
commit 202726b3ceb33576ac6feb778e48bd851bfe171e
Author: Liming Gao <liming.gao@intel.com>
Date: Thu Sep 29 15:59:09 2016 +0800
BaseTools Makefile: Enable O2 option for GCC tool chain
Enable O2 option to generate fast code for performance improvement.
Contributed-under: TianoCore Contribution Agreement 1.0
Signed-off-by: Liming Gao <liming.gao@intel.com>
Reviewed-by: Jordan Justen <jordan.l.justen@intel.com>
commit c52d9f71ba179a825c12851a2b4823c1181bf55a
Author: Liming Gao <liming.gao@intel.com>
Date: Thu Sep 29 15:58:23 2016 +0800
BaseTools GenVtf: Initialize the return point as NULL
Contributed-under: TianoCore Contribution Agreement 1.0
Signed-off-by: Liming Gao <liming.gao@intel.com>
Reviewed-by: Jordan Justen <jordan.l.justen@intel.com>
commit 9a1a63cf1148eeeb50d58a6982b4c45f2e83e8ab
Author: Liming Gao <liming.gao@intel.com>
Date: Wed Sep 28 14:18:56 2016 +0800
BaseTools Makefile: Enable O2 option to replace Od for VS tool chain
Enable O2 option to generate fast code for performance improvement.
Contributed-under: TianoCore Contribution Agreement 1.0
Signed-off-by: Liming Gao <liming.gao@intel.com>
Acked-by: Jordan Justen <jordan.l.justen@intel.com>
commit 5277efed286d95168742fe257b11fa4578145e32
Author: Liming Gao <liming.gao@intel.com>
Date: Wed Sep 28 14:14:37 2016 +0800
BaseTools EfiLdrImage: Remove unnecessary exit (0)
Contributed-under: TianoCore Contribution Agreement 1.0
Signed-off-by: Liming Gao <liming.gao@intel.com>
Reviewed-by: Jordan Justen <jordan.l.justen@intel.com>
_______________________________________________
Xen-devel mailing list
Xen-devel@lists.xen.org
https://lists.xen.org/xen-devel
^ permalink raw reply [flat|nested] only message in thread
only message in thread, other threads:[~2016-10-08 17:24 UTC | newest]
Thread overview: (only message) (download: mbox.gz / follow: Atom feed)
-- links below jump to the message on this page --
2016-10-08 17:24 [ovmf baseline-only test] 67851: all pass Platform Team regression test user
This is a public inbox, see mirroring instructions
for how to clone and mirror all data and code used for this inbox;
as well as URLs for NNTP newsgroup(s).