* [ovmf test] 155908: all pass - PUSHED
@ 2020-10-17 9:25 osstest service owner
0 siblings, 0 replies; only message in thread
From: osstest service owner @ 2020-10-17 9:25 UTC (permalink / raw)
To: xen-devel, osstest-admin
flight 155908 ovmf real [real]
http://logs.test-lab.xenproject.org/osstest/logs/155908/
Perfect :-)
All tests in this flight passed as required
version targeted for testing:
ovmf 30f0ec8d80072ae3ab58e08014e6b2ffe3ef97e1
baseline version:
ovmf a7d977040bd82b89d1fe5ef32d488bfd10db2dbc
Last test of basis 155891 2020-10-16 10:41:44 Z 0 days
Testing same since 155908 2020-10-16 18:15:11 Z 0 days 1 attempts
------------------------------------------------------------
People who touched revisions under test:
Ard Biesheuvel <Ard.Biesheuvel@arm.com>
Hao A Wu <hao.a.wu@intel.com>
Laszlo Ersek <lersek@redhat.com>
Sami Mujawar <sami.mujawar@arm.com>
jobs:
build-amd64-xsm pass
build-i386-xsm pass
build-amd64 pass
build-i386 pass
build-amd64-libvirt pass
build-i386-libvirt pass
build-amd64-pvops pass
build-i386-pvops pass
test-amd64-amd64-xl-qemuu-ovmf-amd64 pass
test-amd64-i386-xl-qemuu-ovmf-amd64 pass
------------------------------------------------------------
sg-report-flight on osstest.test-lab.xenproject.org
logs: /home/logs/logs
images: /home/logs/images
Logs, config files, etc. are available at
http://logs.test-lab.xenproject.org/osstest/logs
Explanation of these reports, and of osstest in general, is at
http://xenbits.xen.org/gitweb/?p=osstest.git;a=blob;f=README.email;hb=master
http://xenbits.xen.org/gitweb/?p=osstest.git;a=blob;f=README;hb=master
Test harness code can be found at
http://xenbits.xen.org/gitweb?p=osstest.git;a=summary
Pushing revision :
To xenbits.xen.org:/home/xen/git/osstest/ovmf.git
a7d977040b..30f0ec8d80 30f0ec8d80072ae3ab58e08014e6b2ffe3ef97e1 -> xen-tested-master
^ permalink raw reply [flat|nested] only message in thread
only message in thread, other threads:[~2020-10-17 9:26 UTC | newest]
Thread overview: (only message) (download: mbox.gz / follow: Atom feed)
-- links below jump to the message on this page --
2020-10-17 9:25 [ovmf test] 155908: all pass - PUSHED osstest service owner
This is a public inbox, see mirroring instructions
for how to clone and mirror all data and code used for this inbox;
as well as URLs for NNTP newsgroup(s).